BEGIN:VCALENDAR
VERSION:2.0
PRODID:-//INTERSPORT Döbeli AG//NONSGML kigkonsult.se iCalcreator 2.16.12//
METHOD:PUBLISH
X-MS-OLK-FORCEINSPECTOROPEN:TRUE
BEGIN:VEVENT
UID:20260422T181459CEST-1507ROjCPf@INTERSPORT Döbeli AG
DTSTAMP:20260422T161459Z
DESCRIPTION:Der Staufberglauf am 16. August 2026 ist ein beliebter Laufklas
 siker im Seetal mit offiziell zertifizierter Hauptstrecke über rund 10 km.
 \n\nDie Route führt durch abwechslungsreiche Abschnitte und ist sowohl für
  leistungsorientierte Läufer als auch für Hobby- und Walking-Teilnehmende 
 attraktiv. Ergänzend zum Hauptlauf bietet der Anlass spezielle Kategorien 
 wie Walking- und Familienläufe und lädt so eine breite Zielgruppe ein. Tei
 lnehmerinnen und Teilnehmer\, die drei der vier Läufe der Serie absolviere
 n\, qualifizieren sich für die attraktive Döbeli Seetal Trophy-Verlosung m
 it Einkaufsgutscheinen. \n\nTeilnahme an mindestens drei der vier Seetal-L
 äufe qualifiziert für die Döbeli Seetal Trophy-Verlosung attraktiver Preis
 e. Die Döbeli Seetal Trophy Läufe sind der 5 Schlösser Lauf\, Lenzburger L
 auf\, Baldeggerseelauf und Staufberglauf.\n 
DTSTART:20260816T000000
DTEND:20260816T235900
LOCATION:Schulhaus Staufen
ORGANIZER:MAILTO:INTERSPORT Döbeli AG <info@doebeli-sport.ch>
SUMMARY:Staufberglauf – Lauf der Döbeli Seetal Trophy
END:VEVENT
END:VCALENDAR
