BEGIN:VCALENDAR
VERSION:2.0
PRODID:-//INTERSPORT Döbeli AG//NONSGML kigkonsult.se iCalcreator 2.16.12//
METHOD:PUBLISH
X-MS-OLK-FORCEINSPECTOROPEN:TRUE
BEGIN:VEVENT
UID:20260422T181110CEST-5302nrIH99@INTERSPORT Döbeli AG
DTSTAMP:20260422T161110Z
DESCRIPTION:Am 6. Juni 2026 findet der renommierte Baldeggerseelauf in Hitz
 kirch statt.\n\nDie Hauptdisziplin über 10 Meilen (ca. 16 km) führt rund u
 m den idyllischen Baldeggersee und kombiniert sportliche Herausforderung m
 it Naturerlebnis. Zusätzlich gibt es kürzere Strecken\, Kinder- und Jugend
 läufe sowie den beliebten Schlosslauf über 4.5 km. Dieses breit aufgelegte
  Angebot macht den Baldeggerseelauf zu einem der attraktivsten Volksläufe 
 im Seetal. \n\nTeilnahme an mindestens drei der vier Seetal-Läufe qualifiz
 iert für die Döbeli Seetal Trophy-Verlosung attraktiver Preise. Die Döbeli
  Seetal Trophy Läufe sind der 5 Schlösser Lauf\, Lenzburger Lauf\, Baldegg
 erseelauf und Staufberglauf.\n 
DTSTART:20260606T000000
DTEND:20260606T235900
LOCATION:Dorfkern Hitzkirch
ORGANIZER:MAILTO:INTERSPORT Döbeli AG <info@doebeli-sport.ch>
SUMMARY:Baldeggerseelauf – Lauf der Döbeli Seetal Trophy
END:VEVENT
END:VCALENDAR
