BEGIN:VCALENDAR
VERSION:2.0
PRODID:-//INTERSPORT Döbeli AG//NONSGML kigkonsult.se iCalcreator 2.16.12//
METHOD:PUBLISH
X-MS-OLK-FORCEINSPECTOROPEN:TRUE
BEGIN:VEVENT
UID:20260422T181116CEST-4505bkmVp7@INTERSPORT Döbeli AG
DTSTAMP:20260422T161116Z
DESCRIPTION:Der Lenzburgerlauf am 30. Mai 2026 feiert sein langjähriges Jub
 iläum mit einer Vielfalt an Laufkategorien für Kinder\, Freizeit- und Leis
 tungs-Läuferinnen und Läufer.\n\nDie Strecke führt durch die Altstadt und 
 naturnahe Abschnitte rund um Lenzburg und bietet damit ein abwechslungsrei
 ches Lauferlebnis für Teilnehmende aller Alters- und Leistungsgruppen. Der
  Event ist Teil der Döbeli Seetal Trophy. Melde dich jetzt an und gestalte
  dein Laufjahr in der Region aktiv und erlebnisreich.\n\nTeilnahme an mind
 estens drei der vier Seetal-Läufe qualifiziert für die Döbeli Seetal Troph
 y-Verlosung attraktiver Preise. Die Döbeli Seetal Trophy Läufe sind der 5 
 Schlösser Lauf\, Lenzburger Lauf\, Baldeggerseelauf und Staufberglauf.\n 
DTSTART:20260530T000000
DTEND:20260530T235900
LOCATION:Bei Alten Gemeindesaal
ORGANIZER:MAILTO:INTERSPORT Döbeli AG <info@doebeli-sport.ch>
SUMMARY:Lenzburgerlauf – Lauf der Döbeli Seetal Trophy
END:VEVENT
END:VCALENDAR
