BEGIN:VCALENDAR
VERSION:2.0
PRODID:-//INTERSPORT Döbeli AG//NONSGML kigkonsult.se iCalcreator 2.16.12//
METHOD:PUBLISH
X-MS-OLK-FORCEINSPECTOROPEN:TRUE
BEGIN:VEVENT
UID:20260422T181536CEST-91845Vj5U4@INTERSPORT Döbeli AG
DTSTAMP:20260422T161536Z
DESCRIPTION:Der 5-Schlösslerlauf am 24. Mai 2026 in Lupfig (AG) führt Läufe
 rinnen und Läufer durch eine abwechslungsreiche Strecke vorbei an historis
 chen Sehenswürdigkeiten und durch die malerische Landschaft des Seetals.\n
 \nDisziplinen reichen von der Hauptstrecke über diverse Distanzen für Hobb
 ysportler bis zu altersgerechten Schüler- und Jugendkategorien. Familien u
 nd Laufbegeisterte finden hier einen motivierenden Einstieg in die Saison.
  Die Kombination aus Herausforderung\, regionalem Charme und Festwirtschaf
 t macht den 5-Schlösslerlauf zu einem beliebten Event im Running-Kalender 
 der Region.\n\nTeilnahme an mindestens drei der vier Seetal-Läufe qualifiz
 iert für die Döbeli Seetal Trophy-Verlosung attraktiver Preise. Die Döbeli
  Seetal Trophy Läufe sind der 5 Schlösser Lauf\, Lenzburger Lauf\, Baldegg
 erseelauf und Staufberglauf.\n 
DTSTART:20260524T000000
DTEND:20260524T235900
LOCATION:Mehrzweckhalle Fäälacher
ORGANIZER:MAILTO:INTERSPORT Döbeli AG <info@doebeli-sport.ch>
SUMMARY:5-Schlösslerlauf – Lauf der Döbeli Seetal Trophy
END:VEVENT
END:VCALENDAR
